Workbook
Name OLE_LINK1: 'Annex 3 Preserved charges'!#REF!

Sheet Overview
A2: Company and Licence name, charging year, effective from, status
B3: Company and Licence name | C3: Year | D3: Effective From | E3: Status
A4: Company and Licence name, charging year, effective from, status | B4: Southern Electric Power Distribution plc | C4: 2027/28 | D4: 1 April 2027 | E4: Final
A6: List of data tables in this workbook
A7: Worksheet | B7: Information
A8: Annex 1 LV, HV and Unmetered Supplies charges | B8: Annex 1 contains the charges to LV and HV Designated Properties and Unmetered Supplies.
A9: Annex 2 Designated EHV charges | B9: ="Annex 2 contains the charges to Designated EHV Properties and charges applied to LDNOs with Designated EHV Properties/end-users embedded in networks within the " &B4 &" Licence area." -> Annex 2 contains the charges to Designated EHV Properties and charges applied to LDNOs with Designated EHV Properties/end-users embedded in networks within the Southern Electric Power Distribution plc Licence area.
A10: Annex 3 Preserved charges | B10: Annex 3 contains details of any preserved and additional charges that are valid at this time.
A11: Annex 4 LDNO charges | B11: ="Annex 4 contains charges that are levied on the owner of an embedded network within the "&B4&" Licence area. "&"Electricity suppliers and consumers who have properties connected to an embedded network should contact the embedded network owner to determine their distribution charges."&" The charges listed in this table are not payable by domestic consumers, business consumers or electricity suppliers." -> Annex 4 contains charges that are levied on the owner of an embedded network within the Southern Electric Power Distribution plc Licence area. Electricity suppliers and consumers who have properties connected to an embedded network should contact the embedded network owner to determine their distribution charges. The charges listed in this table are not payable by domestic consumers, business consumers or electricity suppliers.
A12: Annex 5 LLFs | B12: Annex 5 has been intentionally left blank as this charging statement is published a complete year before the LLFs have been audited. The line loss factors that are approved by the BSC Panel for the applicable year and consequently published on the Elexon website will take precedence and be used in Settlement. This annex will be re-published with these values once they are available.
A13: Annex 6 Charges for New or Amended Designated EHV Properties | B13: ="Annex 6 contains the charges for new or amended Designated EHV Properties and charges applied to LDNOs with new or amended Designated EHV Properties/end-users embedded in networks within the " &B4 &" Licence area." -> Annex 6 contains the charges for new or amended Designated EHV Properties and charges applied to LDNOs with new or amended Designated EHV Properties/end-users embedded in networks within the Southern Electric Power Distribution plc Licence area.
A14: Annex 7 Fixed adders for Supplier of Last Resort and Eligible Bad Debt pass-through costs | B14: Annex 7 contains the fixed adders to recover Supplier of Last Resort and Eligible Bad Debt pass-through costs. The Excess Supplier of Last Resort fixed adder relates to an increase to previously published charges only.
A15: Nodal prices | B15: Contains the underlying [nodal/network group] costs used to calculate the current EDCM charges.
A16: SSC unit rate lookup | B16: Contains a mapping of Standard Settlement Configurations to common decodings
A17: Residual Charging Bandings | B17: Contains the four Residual charging band allocation for Customers
A18: TNUoS Mapping | B18: Contains a mapping of DUoS Tariffs to TNUoS Site Charging Bands
A19: Charge calculator | B19: Charge calculator is a tool to help you estimate your distribution charges using current consumption data and forecast consumption data.
A21: Notes to users of this spreadsheet
A23: Please use this spreadsheet with reference to the LC14 use of system charging statement.
A24: Annex 2 and Annex 6 - Import/Export unique identifier columns removed.
A26: Notes to DNOs populating this spreadsheet
A28: DNOs must endeavour to maintain consistency in the structure of this spreadsheet. Any changes to the structure must be noted in the 'Notes to users of this spreadsheet'
A29: The drop down list on the charge calculator can be expanded by unprotecting the charge calculator sheet and selecting 'data', 'data validation...' and then expanding the 'source' data range. The sheet can then be protected.

Sheet Annex 1 LV, HV and UMS charges
A1: Back to Overview | B1: 'DNOs paste value cells A15:J47 from CDCM 3701 into cells A14:J46
A2: =Overview!B4& " - Effective from "&Overview!D4&" - "&Overview!E4&" LV and HV charges" -> Southern Electric Power Distribution plc - Effective from 1 April 2027 - Final LV and HV charges
A4: Time Bands for LV and HV Designated Properties | G4: Time Bands for Unmetered Properties
A5: Time periods | B5: Red Time Band | C5: Amber Time Band | E5: Green Time Band | I5: Black Time Band | J5: Yellow Time Band | K5: Green Time Band
A6: Monday to Friday (Including Bank Holidays) All Year | B6: 16:30 - 19:30 | G6: Monday to Friday (Including Bank Holidays) March to October Inclusive | J6: 07:00 - 22:00
A7: Monday to Friday (Including Bank Holidays) All Year | C7: 07:00 - 16:30 19:30 - 22:00 | G7: Monday to Friday (Including Bank Holidays) November to February Inclusive | I7: 16:30 - 19:30 | J7: 07:00 - 16:30 19:30 - 22:00
A8: Monday to Friday (Including Bank Holidays) All Year | E8: 00:00 - 07:00 22:00 - 24:00 | G8: Monday to Friday (Including Bank Holidays) April to March Inclusive | K8: 00:00 - 07:00 22:00 - 24:00
A9: Saturday and Sunday All year | C9: 09:30 - 21:30 | E9: 00:00 - 09:30 21:30 - 24:00 | G9: Saturday and Sunday All year | J9: 09:30 - 21:30 | K9: 00:00 - 09:30 21:30 - 24:00
A10: Notes | B10: All the above times are in UK Clock time | G10: Notes | I10: All the above times are in UK Clock time
A13: Tariff name | B13: Open LLFCs / DUoS Tariff IDs | C13: PCs | D13: Red/black unit charge p/kWh | E13: Amber/yellow unit charge p/kWh | F13: Green unit charge p/kWh | G13: Fixed charge p/MPAN/day | H13: Capacity charge p/kVA/day | I13: Exceeded capacity charge p/kVA/day | J13: Reactive power charge p/kVArh | K13: Closed LLFCs / DUoS Tariff IDs
A14: Domestic Aggregated or CT with Residual | B14: 100-111, 154-157, 160-161, 456, Q55 | C14: 0, 1, 2 | D14: 12.981 | E14: 2.124 | F14: 0.155 | G14: 11.04 | K14: 124-125
A15: Domestic Aggregated (Related MPAN) | B15: 115, 121, 150-153 | C15: 2 | D15: 12.981 | E15: 2.124 | F15: 0.155 | K15: 112-114, 116-120, 122-123
A16: Non-Domestic Aggregated or CT No Residual | B16: H00, H05, H10, H15, H20, H25, H30, H35, H40, H45, H50, H55, H60, H70, H75, H80, Q00, Q56 | C16: 0, 3, 4, 5-8 | D16: 12.515 | E16: 2.048 | F16: 0.149 | G16: 14.3 | K16: Q35, Q40
A17: Non-Domestic Aggregated or CT Band 1 | B17: H01, H06, H11, H16, H21, H26, H31, H36, H41, H46, H51, H56, H61, H71, H76, H81, Q01, Q57 | C17: 0, 3, 4, 5-8 | D17: 12.515 | E17: 2.048 | F17: 0.149 | G17: 14.19 | K17: Q36, Q41
A18: Non-Domestic Aggregated or CT Band 2 | B18: H02, H07, H12, H17, H22, H27, H32, H37, H42, H47, H52, H57, H62, H72, H77, H82, Q02, Q58 | C18: 0, 3, 4, 5-8 | D18: 12.515 | E18: 2.048 | F18: 0.149 | G18: 13.64 | K18: Q37, Q42
A19: Non-Domestic Aggregated or CT Band 3 | B19: H03, H08, H13, H18, H23, H28, H33, H38, H43, H48, H53, H58, H63, H73, H78, H83, Q03, Q59 | C19: 0, 3, 4, 5-8 | D19: 12.515 | E19: 2.048 | F19: 0.149 | G19: 12.64 | K19: Q38, Q43
A20: Non-Domestic Aggregated or CT Band 4 | B20: H04, H09, H14, H19, H24, H29, H34, H39, H44, H49, H54, H59, H64, H74, H79, H84, Q04, Q60 | C20: 0, 3, 4, 5-8 | D20: 12.515 | E20: 2.048 | F20: 0.149 | G20: 9.45 | K20: Q39, Q44
A21: Non-Domestic Aggregated (related MPAN) | B21: 140, 144 | C21: 4 | D21: 12.515 | E21: 2.048 | F21: 0.149 | K21: 138-139, 141-143, 145
A22: LV Site Specific No Residual | B22: H85 | C22: 0 | D22: 8.548 | E22: 1.237 | F22: 0.085 | G22: 25.25 | H22: 11.27 | I22: 11.27 | J22: 0.267
A23: LV Site Specific Band 1 | B23: H86 | C23: 0 | D23: 8.548 | E23: 1.237 | F23: 0.085 | G23: 16.93 | H23: 11.27 | I23: 11.27 | J23: 0.267
A24: LV Site Specific Band 2 | B24: H87 | C24: 0 | D24: 8.548 | E24: 1.237 | F24: 0.085 | G24: 11.63 | H24: 11.27 | I24: 11.27 | J24: 0.267
A25: LV Site Specific Band 3 | B25: H88 | C25: 0 | D25: 8.548 | E25: 1.237 | F25: 0.085 | G25: 1.38 | H25: 11.27 | I25: 11.27 | J25: 0.267
A26: LV Site Specific Band 4 | B26: H89 | C26: 0 | D26: 8.531 | E26: 1.219 | F26: 0.068 | G26: 0 | H26: 11.27 | I26: 11.27 | J26: 0.267
A27: LV Sub Site Specific No Residual | B27: H90 | C27: 0 | D27: 4.735 | E27: 0.521 | F27: 0.03 | G27: 58.02 | H27: 11.43 | I27: 11.43 | J27: 0.144
A28: LV Sub Site Specific Band 1 | B28: H91 | C28: 0 | D28: 4.735 | E28: 0.521 | F28: 0.03 | G28: 49.69 | H28: 11.43 | I28: 11.43 | J28: 0.144
A29: LV Sub Site Specific Band 2 | B29: H92 | C29: 0 | D29: 4.735 | E29: 0.521 | F29: 0.03 | G29: 44.4 | H29: 11.43 | I29: 11.43 | J29: 0.144
A30: LV Sub Site Specific Band 3 | B30: H93 | C30: 0 | D30: 4.735 | E30: 0.521 | F30: 0.03 | G30: 34.15 | H30: 11.43 | I30: 11.43 | J30: 0.144
A31: LV Sub Site Specific Band 4 | B31: H94 | C31: 0 | D31: 4.717 | E31: 0.503 | F31: 0.013 | G31: 32.77 | H31: 11.43 | I31: 11.43 | J31: 0.144
A32: HV Site Specific No Residual | B32: Q45 | C32: 0 | D32: 3.743 | E32: 0.382 | F32: 0.021 | G32: 241.7 | H32: 11.04 | I32: 11.04 | J32: 0.104
A33: HV Site Specific Band 1 | B33: Q46 | C33: 0 | D33: 3.743 | E33: 0.382 | F33: 0.021 | G33: 188.01 | H33: 11.04 | I33: 11.04 | J33: 0.104
... A36: HV Site Specific Band 4 | B36: Q49 | C36: 0 | D36: 3.725 | E36: 0.363 | F36: 0.003 | G36: 0 | H36: 11.04 | I36: 11.04 | J36: 0.104
A37: Unmetered Supplies | B37: 500-503, 520 | C37: 0, 1 or 8 | D37: 34.306 | E37: 5.367 | F37: 3.203
A38: LV Generation Aggregated | B38: 931 | C38: 0 or 8 | D38: -8.138 | E38: -1.332 | F38: -0.097 | G38: 0
A39: LV Sub Generation Aggregated | B39: 932 | C39: 0 or 8 | D39: -6.914 | E39: -1.043 | F39: -0.073 | G39: 0
A40: LV Generation Site Specific | B40: 1-2, 909 | C40: 0 | D40: -8.138 | E40: -1.332 | F40: -0.097 | G40: 0 | J40: 0.331
A41: LV Generation Site Specific no RP charge | B41: 7-8 | C41: 0 | D41: -8.138 | E41: -1.332 | F41: -0.097 | G41: 0
A42: LV Sub Generation Site Specific | B42: 3-4 | C42: 0 | D42: -6.914 | E42: -1.043 | F42: -0.073 | G42: 0 | J42: 0.244
A43: LV Sub Generation Site Specific no RP charge | B43: 146-147 | C43: 0 | D43: -6.914 | E43: -1.043 | F43: -0.073 | G43: 0
A44: HV Generation Site Specific | B44: 5-6, 910 | C44: 0 | D44: -4.793 | E44: -0.527 | F44: -0.031 | G44: 466.72 | J44: 0.2
A45: HV Generation Site Specific no RP charge | B45: 148-149 | C45: 0 | D45: -4.793 | E45: -0.527 | F45: -0.031 | G45: 466.72

Sheet Annex 2 Designated EHV charges
A1: Back to Overview | C1: Copy EDCM table 5001 range starting B101 and paste into G11. Extend or reduce print area as required.
A2: =Overview!B4& " - Effective from "&Overview!D4&" - "&Overview!E4&" Designated EHV charges" -> Southern Electric Power Distribution plc - Effective from 1 April 2027 - Final Designated EHV charges
A4: Time Periods for Designated EHV Properties
A5: Time periods | D5: Super Red Time Band
A6: Monday to Friday (Including Bank Holidays) November to February Inclusive | D6: 16:30 - 19:30
A7: Notes | D7: All the above times are in UK Clock time
A9: Import LLFC / DUoS Tariff ID | B9: Import MPANs/MSIDs | C9: Export LLFC / DUoS Tariff ID | D9: Export MPANs/MSIDs | E9: Name | F9: Residual Charging Band | G9: Import Super Red unit charge (p/kWh) | H9: Import fixed charge (p/day) | I9: Import capacity charge (p/kVA/day) | J9: Import exceeded capacity charge (p/kVA/day) | K9: Export Super Red unit charge (p/kWh) | L9: Export fixed charge (p/day) | M9: Export capacity charge (p/kVA/day) | N9: Export exceeded capacity charge (p/kVA/day)
A10: 700 | B10: 2000027373741 | E10: Tariff 1 | F10: 4 | G10: 0.093 | H10: 173418.45 | I10: 1.43 | J10: 1.43 | K10: 0 | L10: 0 | M10: 0 | N10: 0
A11: 701 | B11: 2000027366674 | E11: Tariff 2 | F11: 3 | G11: 0.619 | H11: 45383.59 | I11: 2.18 | J11: 2.18 | K11: 0 | L11: 0 | M11: 0 | N11: 0
A12: 702 | B12: 2000027342238 | E12: Tariff 3 | F12: 2 | G12: 0.223 | H12: 21123.65 | I12: 0.76 | J12: 0.76 | K12: 0 | L12: 0 | M12: 0 | N12: 0
A13: 704 | B13: 2000027343640 | C13: 734 | D13: 2000050928900 | E13: Tariff 4 | F13: 0 | G13: 0 | H13: 3.73 | I13: 0.81 | J13: 0.81 | K13: 0 | L13: 512.03 | M13: 0.05 | N13: 0.05
A14: 707 | B14: 2000027427398 | C14: 737 | D14: 2000050935800 | E14: Tariff 6 | F14: 1 | G14: 0.091 | H14: 2292.7 | I14: 0.86 | J14: 0.86 | K14: -0.092 | L14: 170.13 | M14: 0.05 | N14: 0.05
A15: 708 | B15: 2000052675995 | E15: Tariff 7 | F15: 2 | G15: 0 | H15: 23508.41 | I15: 1.86 | J15: 1.86 | K15: 0 | L15: 0 | M15: 0 | N15: 0
A16: 709 | B16: 2000054624149 | C16: 749 | E16: Tariff 8 | F16: 2 | G16: 1.309 | H16: 12496.38 | I16: 2.15 | J16: 2.15 | K16: 0 | L16: 102.17 | M16: 0.05 | N16: 0.05
A17: 710 | B17: 2000027387210, 2000054817604, 2000055899218 | C17: 740 | D17: 2000055899236, 2000055899245, 2000055205806 | E17: Tariff 9 | F17: 4 | G17: 0 | H17: 150759.79 | I17: 0.63 | J17: 0.63 | K17: 0 | L17: 7739.79 | M17: 0.05 | N17: 0.05
A18: 711 | B18: 2000027852497 | E18: Tariff 10 | F18: 2 | G18: 0 | H18: 24725.28 | I18: 2.27 | J18: 2.27 | K18: 0 | L18: 0 | M18: 0 | N18: 0
A19: 712 | B19: 2000055085297 | E19: Tariff 11 | F19: 3 | G19: 0.825 | H19: 36854.72 | I19: 1.43 | J19: 1.43 | K19: 0 | L19: 0 | M19: 0 | N19: 0
A20: 713 | B20: 2000055085302 | E20: Tariff 12 | F20: 0 | G20: 0.837 | H20: 17714.09 | I20: 1.61 | J20: 1.61 | K20: 0 | L20: 0 | M20: 0 | N20: 0
A21: 714 | B21: 2000027366665 | E21: Tariff 13 | F21: 4 | G21: 1.3 | H21: 149248.1 | I21: 2.07 | J21: 2.07 | K21: 0 | L21: 0 | M21: 0 | N21: 0
A22: 715 | B22: 2000051063430 | E22: Tariff 14 | F22: 2 | G22: 0.608 | H22: 12000.9 | I22: 4.65 | J22: 4.65 | K22: 0 | L22: 0 | M22: 0 | N22: 0
A23: 716 | B23: 2000027366762 | E23: Tariff 15 | F23: 1 | G23: 0 | H23: 2307.59 | I23: 3.57 | J23: 3.57 | K23: 0 | L23: 0 | M23: 0 | N23: 0
A24: 717 | B24: 2000027373403 | E24: Tariff 16 | F24: 1 | G24: 0.854 | H24: 2307.59 | I24: 2.85 | J24: 2.85 | K24: 0 | L24: 0 | M24: 0 | N24: 0
A25: 718 | B25: 2000050571060 | C25: 738 | D25: 2000051080338 | E25: Tariff 17 | F25: 3 | G25: 0.858 | H25: 32096.68 | I25: 1.63 | J25: 1.63 | K25: 0 | L25: 2059.24 | M25: 0.05 | N25: 0.05
A26: 719 | B26: 2000027419449 | E26: Tariff 18 | F26: 1 | G26: 1.409 | H26: 2307.59 | I26: 1.18 | J26: 1.18 | K26: 0 | L26: 0 | M26: 0 | N26: 0
A27: 800 | B27: 2000050277851 | E27: Tariff 19 | F27: 3 | G27: 0.068 | H27: 31147.22 | I27: 1.48 | J27: 1.48 | K27: 0 | L27: 0 | M27: 0 | N27: 0
A28: 801 | B28: 2000050393707 | E28: Tariff 20 | F28: 3 | G28: 0 | H28: 31147.22 | I28: 1.74 | J28: 1.74 | K28: 0 | L28: 0 | M28: 0 | N28: 0
A29: 802 | B29: 2000027366841 | E29: Tariff 21 | F29: 1 | G29: 0.4 | H29: 2519.65 | I29: 2.62 | J29: 2.62 | K29: 0 | L29: 0 | M29: 0 | N29: 0
A30: 803 | B30: 2000050277513 | E30: Tariff 22 | F30: 1 | G30: 0 | H30: 3711.39 | I30: 1.67 | J30: 1.67 | K30: 0 | L30: 0 | M30: 0 | N30: 0
A31: 817 | B31: 2000050481327 | E31: Tariff 23 | F31: 0 | G31: 0 | H31: 1169.28 | I31: 2.25 | J31: 2.25 | K31: 0 | L31: 0 | M31: 0 | N31: 0
A32: 837 | B32: 2000050481309 | E32: Tariff 24 | F32: 0 | G32: 0 | H32: 1169.28 | I32: 2.69 | J32: 2.69 | K32: 0 | L32: 0 | M32: 0 | N32: 0
A33: 804 | B33: 2000050275631, 2000056717878, 2000056717887 | E33: Tariff 25 | F33: 4 | G33: 0 | H33: 150063.67 | I33: 1.65 | J33: 1.65 | K33: 0 | L33: 0 | M33: 0 | N33: 0
A34: 805 | B34: 2000027474820 | E34: Tariff 26 | F34: 1 | G34: 0 | H34: 2520.99 | I34: 1.47 | J34: 1.47 | K34: 0 | L34: 0 | M34: 0 | N34: 0
A35: 806 | B35: 2000027454188 | E35: Tariff 27 | F35: 2 | G35: 0 | H35: 12935.28 | I35: 1.56 | J35: 1.56 | K35: 0 | L35: 0 | M35: 0 | N35: 0
A36: 807 | B36: 2000027454452 | E36: Tariff 28 | F36: 2 | G36: 0 | H36: 12301.18 | I36: 1.98 | J36: 1.98 | K36: 0 | L36: 0 | M36: 0 | N36: 0
A37: 808 | B37: 2000052503790 | E37: Tariff 29 | F37: 3 | G37: 0.624 | H37: 31147.22 | I37: 1.69 | J37: 1.69 | K37: 0 | L37: 0 | M37: 0 | N37: 0
A38: 809 | B38: 2000027297816 | E38: Tariff 30 | F38: 2 | G38: 0 | H38: 12391.44 | I38: 0.77 | J38: 0.77 | K38: 0 | L38: 0 | M38: 0 | N38: 0
A39: 810 | B39: 2000050467030 | C39: 918 | D39: 2000027292534 | E39: Tariff 31 | F39: 2 | G39: 0 | H39: 14739.99 | I39: 1.03 | J39: 1.03 | K39: 0 | L39: 3072.9 | M39: 0.05 | N39: 0.05
A40: 811 | B40: 2000051063927 | E40: Tariff 32 | F40: 3 | G40: 0 | H40: 30629.56 | I40: 4.25 | J40: 4.25 | K40: 0 | L40: 0 | M40: 0 | N40: 0
A41: 812 | B41: 2000050544330 | E41: Tariff 34 | F41: 1 | G41: 0.221 | H41: 2155.66 | I41: 1.74 | J41: 1.74 | K41: 0 | L41: 0 | M41: 0 | N41: 0
A42: 813 | B42: 2000055209191, 2000055209207, 2000055209216, 2000055209225, 2000055209234, 2000055209252, 2000055209243, 2000057677472, 2000057682445, 2000060517798 | E42: Tariff 35 | F42: 4 | G42: 0 | H42: 157590.23 | I42: 3.26 | J42: 3.26 | K42: 0 | L42: 0 | M42: 0 | N42: 0
...

Sheet Annex 2a Import
A1: Note: The list of MPANs / MSIDs provided may be incomplete; the DNO reserves the right to apply the listed charges to any other MPANs / MSIDs associated with the site. Note: The timebands are as shown in Annex 2.
A2: =Overview!B4& " - Effective from "&Overview!D4&" - "&Overview!E4&" Designated EHV import charges" -> Southern Electric Power Distribution plc - Effective from 1 April 2027 - Final Designated EHV import charges
A4: Import LLFC / DUoS Tariff ID | B4: Import MPANs/MSIDs | C4: Name | D4: Import Super Red unit charge (p/kWh) | E4: Import fixed charge (p/day) | F4: Import capacity charge (p/kVA/day) | G4: Import exceeded capacity charge (p/kVA/day)
A5: 700 | B5: 2000027373741 | C5: Tariff 1 | D5: 0.093 | E5: 173418.45 | F5: 1.43 | G5: 1.43
A6: 701 | B6: 2000027366674 | C6: Tariff 2 | D6: 0.619 | E6: 45383.59 | F6: 2.18 | G6: 2.18
A7: 702 | B7: 2000027342238 | C7: Tariff 3 | D7: 0.223 | E7: 21123.65 | F7: 0.76 | G7: 0.76
A8: 704 | B8: 2000027343640 | C8: Tariff 4 | D8: 0 | E8: 3.73 | F8: 0.81 | G8: 0.81
A9: 707 | B9: 2000027427398 | C9: Tariff 6 | D9: 0.091 | E9: 2292.7 | F9: 0.86 | G9: 0.86
A10: 708 | B10: 2000052675995 | C10: Tariff 7 | D10: 0 | E10: 23508.41 | F10: 1.86 | G10: 1.86
A11: 709 | B11: 2000054624149 | C11: Tariff 8 | D11: 1.309 | E11: 12496.38 | F11: 2.15 | G11: 2.15
A12: 710 | B12: 2000027387210, 2000054817604, 2000055899218 | C12: Tariff 9 | D12: 0 | E12: 150759.79 | F12: 0.63 | G12: 0.63
A13: 711 | B13: 2000027852497 | C13: Tariff 10 | D13: 0 | E13: 24725.28 | F13: 2.27 | G13: 2.27
A14: 712 | B14: 2000055085297 | C14: Tariff 11 | D14: 0.825 | E14: 36854.72 | F14: 1.43 | G14: 1.43
A15: 713 | B15: 2000055085302 | C15: Tariff 12 | D15: 0.837 | E15: 17714.09 | F15: 1.61 | G15: 1.61
A16: 714 | B16: 2000027366665 | C16: Tariff 13 | D16: 1.3 | E16: 149248.1 | F16: 2.07 | G16: 2.07
A17: 715 | B17: 2000051063430 | C17: Tariff 14 | D17: 0.608 | E17: 12000.9 | F17: 4.65 | G17: 4.65
A18: 716 | B18: 2000027366762 | C18: Tariff 15 | D18: 0 | E18: 2307.59 | F18: 3.57 | G18: 3.57
A19: 717 | B19: 2000027373403 | C19: Tariff 16 | D19: 0.854 | E19: 2307.59 | F19: 2.85 | G19: 2.85
A20: 718 | B20: 2000050571060 | C20: Tariff 17 | D20: 0.858 | E20: 32096.68 | F20: 1.63 | G20: 1.63
A21: 719 | B21: 2000027419449 | C21: Tariff 18 | D21: 1.409 | E21: 2307.59 | F21: 1.18 | G21: 1.18
A22: 800 | B22: 2000050277851 | C22: Tariff 19 | D22: 0.068 | E22: 31147.22 | F22: 1.48 | G22: 1.48
A23: 801 | B23: 2000050393707 | C23: Tariff 20 | D23: 0 | E23: 31147.22 | F23: 1.74 | G23: 1.74
A24: 802 | B24: 2000027366841 | C24: Tariff 21 | D24: 0.4 | E24: 2519.65 | F24: 2.62 | G24: 2.62
... A27: 837 | B27: 2000050481309 | C27: Tariff 24 | D27: 0 | E27: 1169.28 | F27: 2.69 | G27: 2.69
A28: 804 | B28: 2000050275631, 2000056717878, 2000056717887 | C28: Tariff 25 | D28: 0 | E28: 150063.67 | F28: 1.65 | G28: 1.65
A29: 805 | B29: 2000027474820 | C29: Tariff 26 | D29: 0 | E29: 2520.99 | F29: 1.47 | G29: 1.47
A30: 806 | B30: 2000027454188 | C30: Tariff 27 | D30: 0 | E30: 12935.28 | F30: 1.56 | G30: 1.56
A31: 807 | B31: 2000027454452 | C31: Tariff 28 | D31: 0 | E31: 12301.18 | F31: 1.98 | G31: 1.98
A32: 808 | B32: 2000052503790 | C32: Tariff 29 | D32: 0.624 | E32: 31147.22 | F32: 1.69 | G32: 1.69
A33: 809 | B33: 2000027297816 | C33: Tariff 30 | D33: 0 | E33: 12391.44 | F33: 0.77 | G33: 0.77
A34: 810 | B34: 2000050467030 | C34: Tariff 31 | D34: 0 | E34: 14739.99 | F34: 1.03 | G34: 1.03
A35: 811 | B35: 2000051063927 | C35: Tariff 32 | D35: 0 | E35: 30629.56 | F35: 4.25 | G35: 4.25
A36: 812 | B36: 2000050544330 | C36: Tariff 34 | D36: 0.221 | E36: 2155.66 | F36: 1.74 | G36: 1.74
A37: 813 | B37: 2000055209191, 2000055209207, 2000055209216, 2000055209225, 2000055209234, 2000055209252, 2000055209243, 2000057677472, 2000057682445, 2000060517798 | C37: Tariff 35 | D37: 0 | E37: 157590.23 | F37: 3.26 | G37: 3.26
A38: 814 | B38: 2000027340036 | C38: Tariff 36 | D38: 0.221 | E38: 2639.52 | F38: 0.84 | G38: 0.84
A39: 815 | B39: 2000027454648 | C39: Tariff 37 | D39: 0 | E39: 33213.45 | F39: 1.42 | G39: 1.42
A40: 816 | B40: 2000027306995 | C40: Tariff 38 | D40: 0 | E40: 12460.53 | F40: 2.98 | G40: 2.98
A41: 818 | B41: 2000050277160 | C41: Tariff 39 | D41: 0 | E41: 209514.51 | F41: 2.52 | G41: 2.52
A42: 819 | B42: 2000027466068 | C42: Tariff 40 | D42: 0 | E42: 2312.34 | F42: 2.48 | G42: 2.48
A43: 7174 | B43: 7174 | C43: Tariff 41 | D43: 0 | E43: 312.65 | F43: 0.81 | G43: 0.81
...

Sheet Annex 2b Export
A1: Note: The list of MPANs / MSIDs provided may be incomplete; the DNO reserves the right to apply the listed charges to any other MPANs / MSIDs associated with the site. Note: The timebands are as shown in Annex 2.
A2: =Overview!B4& " - Effective from "&Overview!D4&" - "&Overview!E4&" Designated EHV export charges" -> Southern Electric Power Distribution plc - Effective from 1 April 2027 - Final Designated EHV export charges
A4: Export LLFC / DUoS Tariff ID | B4: Export MPANs/MSIDs | C4: Name | D4: Export Super Red unit charge (p/kWh) | E4: Export fixed charge (p/day) | F4: Export capacity charge (p/kVA/day) | G4: Export exceeded capacity charge (p/kVA/day)
A5: 734 | B5: 2000050928900 | C5: Tariff 4 | D5: 0 | E5: 512.03 | F5: 0.05 | G5: 0.05
A6: 737 | B6: 2000050935800 | C6: Tariff 6 | D6: -0.092 | E6: 170.13 | F6: 0.05 | G6: 0.05
A7: 749 | C7: Tariff 8 | D7: 0 | E7: 102.17 | F7: 0.05 | G7: 0.05
A8: 740 | B8: 2000055899236, 2000055899245, 2000055205806 | C8: Tariff 9 | D8: 0 | E8: 7739.79 | F8: 0.05 | G8: 0.05
A9: 738 | B9: 2000051080338 | C9: Tariff 17 | D9: 0 | E9: 2059.24 | F9: 0.05 | G9: 0.05
A10: 918 | B10: 2000027292534 | C10: Tariff 31 | D10: 0 | E10: 3072.9 | F10: 0.05 | G10: 0.05
A11: 929 | B11: 2000054899591 | C11: Tariff 36 | D11: 0 | E11: 758.59 | F11: 0.05 | G11: 0.05
A12: 924 | B12: 2000054397290 | C12: Tariff 37 | D12: 0 | E12: 1535.38 | F12: 0.05 | G12: 0.05
A13: 937 | B13: 2000050795630 | C13: Tariff 38 | D13: 0 | E13: 991.8 | F13: 0.05 | G13: 0.05
A14: 7174 | B14: 7174 | C14: Tariff 41 | D14: 0 | E14: 0 | F14: 0 | G14: 0
A15: 923 | B15: 2000053759174 | C15: Tariff 43 | D15: 0 | E15: 2171.69 | F15: 0.05 | G15: 0.05
A16: 933 | C16: Tariff 45 | D16: 0 | E16: 13934.77 | F16: 0.05 | G16: 0.05
A17: 4032 | B17: 4032 | C17: Tariff 55 | D17: 0 | E17: 13.01 | F17: 0.05 | G17: 0.05
A18: 4548 | B18: 4548 | C18: Tariff 56 | D18: 0 | E18: 13.23 | F18: 0.05 | G18: 0.05
A19: 925 | B19: 2000053874080 | C19: Tariff 57 | D19: 0 | E19: 452.59 | F19: 0.05 | G19: 0.05
A20: 521 | B20: 2000053874123 | C20: Tariff 58 | D20: 0 | E20: 662.6 | F20: 0.05 | G20: 0.05
A21: 930 | B21: 2000051034322 | C21: Tariff 59 | D21: 0 | E21: 4170.6 | F21: 0.05 | G21: 0.05
A22: 7390 | B22: 7390 | C22: Tariff 60 | D22: 0 | E22: 614 | F22: 0.05 | G22: 0.05
A23: 7391 | B23: 7391 | C23: Tariff 61 | D23: 0 | E23: 616.43 | F23: 0.05 | G23: 0.05
A24: 917 | B24: 2000050932697 | C24: Tariff 62 | D24: 0 | E24: 1985.41 | F24: 0.05 | G24: 0.05
A25: 917 | B25: 2000051079954 | C25: Tariff 63 | D25: 0 | E25: 576.67 | F25: 0.05 | G25: 0.05
A26: 917 | B26: 2000052231228 | C26: Tariff 64 | D26: 0 | E26: 0 | F26: 0 | G26: 0
A27: 927 | B27: 2000050570312 | C27: Tariff 66 | D27: 0 | E27: 273.27 | F27: 0.05 | G27: 0.05
A28: 928 | B28: 2000050662016 | C28: Tariff 67 | D28: 0 | E28: 678.38 | F28: 0.05 | G28: 0.05
... A62: 629 | B62: 2000056041565 | C62: Tariff 121 | D62: 0 | E62: 3865.03 | F62: 0.05 | G62: 0.05
A63: 914 | B63: SHP 2 | C63: Tariff 122 | D63: 0 | E63: 1842.72 | F63: 0.05 | G63: 0.05
A64: 630 | B64: 2000055582819 | C64: Tariff 124 | D64: 0 | E64: 627.26 | F64: 0.05 | G64: 0.05
A65: 631 | B65: 2000056442156 | C65: Tariff 125 | D65: 0 | E65: 286.81 | F65: 0.05 | G65: 0.05
A66: 632 | B66: 2000055894948 | C66: Tariff 126 | D66: 0 | E66: 627.45 | F66: 0.05 | G66: 0.05
A67: 633 | B67: 2000055630125 | C67: Tariff 127 | D67: 0 | E67: 429.88 | F67: 0.05 | G67: 0.05
A68: 634 | B68: 2000055845782 | C68: Tariff 128 | D68: 0 | E68: 433.02 | F68: 0.05 | G68: 0.05
A69: 635 | B69: 2000055856989 | C69: Tariff 129 | D69: 0 | E69: 3035.38 | F69: 0.05 | G69: 0.05
A70: 648 | B70: 2000056875324 | C70: Tariff 131 | D70: 0 | E70: 1399.68 | F70: 0.05 | G70: 0.05
A71: 639 | B71: 2000055875003 | C71: Tariff 134 | D71: 0 | E71: 2368.02 | F71: 0.05 | G71: 0.05
A72: 640 | B72: 2000055996668 | C72: Tariff 135 | D72: 0 | E72: 620.58 | F72: 0.05 | G72: 0.05
A73: 641 | B73: 2000055627888 | C73: Tariff 136 | D73: 0 | E73: 429.21 | F73: 0.05 | G73: 0.05
A74: 642 | B74: 2000055899797 | C74: Tariff 137 | D74: 0 | E74: 1370.51 | F74: 0.05 | G74: 0.05
...

Sheet Annex 3 Preserved charges
A1: Back to Overview
A2: =Overview!B4& " - Effective from "&Overview!D4&" - "&Overview!E4&" LV and HV tariffs" -> Southern Electric Power Distribution plc - Effective from 1 April 2027 - Final LV and HV tariffs
A3: Supercustomer preserved charges / additional LLFCs / DUoS Tariff IDs
B4: Closed LLFCs /DUoS Tariff IDs | C4: PCs | D4: Red/black unit charge p/kWh | E4: Amber/yellow unit charge p/kWh | F4: Green unit charge p/kWh | G4: Fixed charge p/MPAN/day
A5: Domestic Aggregated or CT with Residual | B5: 124-125 | C5: 0, 1, 2 | D5: 12.981 | E5: 2.124 | F5: 0.155 | G5: 11.04
A6: Domestic Aggregated (Related MPAN) | B6: 112-114, 116-120, 122-123 | C6: 2 | D6: 12.981 | E6: 2.124 | F6: 0.155
A7: Non-Domestic Aggregated or CT No Residual | B7: Q35, Q40 | C7: 0, 3, 4, 5-8 | D7: 12.515 | E7: 2.048 | F7: 0.149 | G7: 14.3
A8: Non-Domestic Aggregated or CT Band 1 | B8: Q36, Q41 | C8: 0, 3, 4, 5-8 | D8: 12.515 | E8: 2.048 | F8: 0.149 | G8: 14.19
A9: Non-Domestic Aggregated or CT Band 2 | B9: Q37, Q42 | C9: 0, 3, 4, 5-8 | D9: 12.515 | E9: 2.048 | F9: 0.149 | G9: 13.64
A10: Non-Domestic Aggregated or CT Band 3 | B10: Q38, Q43 | C10: 0, 3, 4, 5-8 | D10: 12.515 | E10: 2.048 | F10: 0.149 | G10: 12.64
A11: Non-Domestic Aggregated or CT Band 4 | B11: Q39, Q44 | C11: 0, 3, 4, 5-8 | D11: 12.515 | E11: 2.048 | F11: 0.149 | G11: 9.45
A12: Non-Domestic Aggregated (related MPAN) | B12: 138-139, 141-143, 145 | C12: 4 | D12: 12.515 | E12: 2.048 | F12: 0.149
A13: Notes: | B13: Unit time periods are as specified in Annex 1.
A16: Site Specific preserved charges / additional LLFCs / DUoS Tariff IDs
B17: Closed LLFCs / DUoS Tariff IDs | C17: PCs | D17: Red/black unit charge p/kWh | E17: Amber/yellow unit charge p/kWh | F17: Green unit charge p/kWh | G17: Fixed charge p/MPAN/day | H17: Capacity charge p/kVA/day | I17: Exceeded capacity charge p/kVA/day | J17: Reactive power charge p/kVArh
C18: 0
A19: Notes: | B19: Time periods
B20: Unit charges in the Red Time Band apply – between [16:30] and [19:30], Monday to Friday including bank holidays.
B21: Unit charges in the Amber Time Band apply – between [07:00] and [16:30] and [19:30] and [22:00], Monday to Friday including bank holidays, and [09:30] and [21:30] Saturday and Sunday.
B22: Unit charges in the Green Time Band apply – between [00:00] and [07:00] and [22:00] and [24:00], Monday to Friday including bank holidays, and [00:00] and [09:30] and [21:30] and [24:00], Saturday and Sunday.
B23: All times are UK clock-time.

Sheet Annex 4 LDNO charges
A1: Back to Overview | B1: Copy from CDCM table 3701 "Tariffs!A42:I84" and paste values into A14 | F1: Copy from EDCM table 6005 "LDNORev!B549:G683" and paste values into D57
A2: =Overview!B4& " - Effective from "&Overview!D4&" - "&Overview!E4&" LDNO tariffs" -> Southern Electric Power Distribution plc - Effective from 1 April 2027 - Final LDNO tariffs
A4: Time Bands for LV and HV Designated Properties | F4: Time Bands for Unmetered Properties
A5: Time periods | B5: Red Time Band | C5: Amber Time Band | D5: Green Time Band | H5: Black Time Band | I5: Yellow Time Band | J5: Green Time Band
A6: Monday to Friday (Including Bank Holidays) All Year | B6: 16:30 - 19:30 | F6: Monday to Friday (Including Bank Holidays) March to October Inclusive | I6: 07:00 - 22:00
A7: Monday to Friday (Including Bank Holidays) All Year | C7: 07:00 - 16:30 19:30 - 22:00 | F7: Monday to Friday (Including Bank Holidays) November to February Inclusive | H7: 16:30 - 19:30 | I7: 07:00 - 16:30 19:30 - 22:00
A8: Monday to Friday (Including Bank Holidays) All Year | D8: 00:00 - 07:00 22:00 - 24:00 | F8: Monday to Friday (Including Bank Holidays) April to March Inclusive | J8: 00:00 - 07:00 22:00 - 24:00
A9: Saturday and Sunday All Year | C9: 09:30 - 21:30 | D9: 00:00 - 09:30 21:30 - 24:00 | F9: Saturday and Sunday All Year | I9: 09:30 - 21:30 | J9: 00:00 - 09:30 21:30 - 24:00
A10: Notes | B10: All the above times are in UK Clock time | F10: Notes | H10: All the above times are in UK Clock time
A13: Tariff name | B13: Unique billing identifier | C13: PCs | D13: Red/black unit charge p/kWh | E13: Amber/yellow unit charge p/kWh | F13: Green unit charge p/kWh | G13: Fixed charge p/MPAN/day | H13: Capacity charge p/kVA/day | I13: Exceeded capacity charge p/kVA/day | J13: Reactive power charge p/kVArh
A14: LDNO LV: Domestic Aggregated or CT with Residual | C14: 0, 1, 2 | D14: 7.94 | E14: 1.299 | F14: 0.095 | G14: 6.75
A15: LDNO LV: Domestic Aggregated (related MPAN) | C15: 2 | D15: 7.94 | E15: 1.299 | F15: 0.095
A16: LDNO LV: Non-Domestic Aggregated or CT No Residual | C16: 0, 3, 4, 5-8 | D16: 7.655 | E16: 1.253 | F16: 0.091 | G16: 8.75
A17: LDNO LV: Non-Domestic Aggregated or CT Band 1 | C17: 0, 3, 4, 5-8 | D17: 7.655 | E17: 1.253 | F17: 0.091 | G17: 8.68
A18: LDNO LV: Non-Domestic Aggregated or CT Band 2 | C18: 0, 3, 4, 5-8 | D18: 7.655 | E18: 1.253 | F18: 0.091 | G18: 8.34
A19: LDNO LV: Non-Domestic Aggregated or CT Band 3 | C19: 0, 3, 4, 5-8 | D19: 7.655 | E19: 1.253 | F19: 0.091 | G19: 7.73
A20: LDNO LV: Non-Domestic Aggregated or CT Band 4 | C20: 0, 3, 4, 5-8 | D20: 7.655 | E20: 1.253 | F20: 0.091 | G20: 5.78
A21: LDNO LV: Non-Domestic Aggregated (related MPAN) | C21: 4 | D21: 7.655 | E21: 1.253 | F21: 0.091
A22: LDNO LV: LV Site Specific No Residual | C22: 0 | D22: 5.229 | E22: 0.756 | F22: 0.052 | G22: 15.44 | H22: 6.89 | I22: 6.89 | J22: 0.163
A23: LDNO LV: LV Site Specific Band 1 | C23: 0 | D23: 5.229 | E23: 0.756 | F23: 0.052 | G23: 10.35 | H23: 6.89 | I23: 6.89 | J23: 0.163
A24: LDNO LV: LV Site Specific Band 2 | C24: 0 | D24: 5.229 | E24: 0.756 | F24: 0.052 | G24: 7.11 | H24: 6.89 | I24: 6.89 | J24: 0.163
A25: LDNO LV: LV Site Specific Band 3 | C25: 0 | D25: 5.229 | E25: 0.756 | F25: 0.052 | G25: 0.84 | H25: 6.89 | I25: 6.89 | J25: 0.163
A26: LDNO LV: LV Site Specific Band 4 | C26: 0 | D26: 5.218 | E26: 0.746 | F26: 0.041 | G26: 0 | H26: 6.89 | I26: 6.89 | J26: 0.163
A27: LDNO LV: Unmetered Supplies | C27: 0, 1 or 8 | D27: 20.983 | E27: 3.283 | F27: 1.959
A28: LDNO LV: LV Generation Aggregated | C28: 0 or 8 | D28: -8.138 | E28: -1.332 | F28: -0.097 | G28: 0
A29: LDNO LV: LV Generation Site Specific | C29: 0 | D29: -8.138 | E29: -1.332 | F29: -0.097 | G29: 0 | J29: 0.331
A30: LDNO HV: Domestic Aggregated or CT with Residual | C30: 0, 1, 2 | D30: 5.758 | E30: 0.942 | F30: 0.069 | G30: 4.9
A31: LDNO HV: Domestic Aggregated (Related MPAN) | C31: 2 | D31: 5.758 | E31: 0.942 | F31: 0.069
A32: LDNO HV: Non-Domestic Aggregated or CT No Residual | C32: 0, 3, 4, 5-8 | D32: 5.551 | E32: 0.909 | F32: 0.066 | G32: 6.34
A33: LDNO HV: Non-Domestic Aggregated or CT Band 1 | C33: 0, 3, 4, 5-8 | D33: 5.551 | E33: 0.909 | F33: 0.066 | G33: 6.29
A34: LDNO HV: Non-Domestic Aggregated or CT Band 2 | C34: 0, 3, 4, 5-8 | D34: 5.551 | E34: 0.909 | F34: 0.066 | G34: 6.05
A35: LDNO HV: Non-Domestic Aggregated or CT Band 3 | C35: 0, 3, 4, 5-8 | D35: 5.551 | E35: 0.909 | F35: 0.066 | G35: 5.61
A36: LDNO HV: Non-Domestic Aggregated or CT Band 4 | C36: 0, 3, 4, 5-8 | D36: 5.551 | E36: 0.909 | F36: 0.066 | G36: 4.19
A37: LDNO HV: Non-Domestic Aggregated (related MPAN) | C37: 4 | D37: 5.551 | E37: 0.909 | F37: 0.066
A38: LDNO HV: LV Site Specific No Residual | C38: 0 | D38: 3.792 | E38: 0.549 | F38: 0.038 | G38: 11.2 | H38: 5 | I38: 5 | J38: 0.118
A39: LDNO HV: LV Site Specific Band 1 | C39: 0 | D39: 3.792 | E39: 0.549 | F39: 0.038 | G39: 7.51 | H39: 5 | I39: 5 | J39: 0.118
A40: LDNO HV: LV Site Specific Band 2 | C40: 0 | D40: 3.792 | E40: 0.549 | F40: 0.038 | G40: 5.16 | H40: 5 | I40: 5 | J40: 0.118
A41: LDNO HV: LV Site Specific Band 3 | C41: 0 | D41: 3.792 | E41: 0.549 | F41: 0.038 | G41: 0.61 | H41: 5 | I41: 5 | J41: 0.118
A42: LDNO HV: LV Site Specific Band 4 | C42: 0 | D42: 3.784 | E42: 0.541 | F42: 0.03 | G42: 0 | H42: 5 | I42: 5 | J42: 0.118
A43: LDNO HV: LV Sub Site Specific No Residual | C43: 0 | D43: 3.5 | E43: 0.385 | F43: 0.022 | G43: 42.89 | H43: 8.45 | I43: 8.45 | J43: 0.107
...

Sheet Annex 5 LLFs
A1: Back to Overview
A2: This table has intentionally been left blank. The line loss factors that are approved by the BSC Panel for the applicable year and consequently published on the Elexon website will take precedence and be used in Settlement. This annex will be re-published once these values are available.
A3: =Overview!B4& " - Illustrative LLFs for year beginning "&Overview!D4 -> Southern Electric Power Distribution plc - Illustrative LLFs for year beginning 1 April 2027
A4: Time periods | B4: Period 1 | C4: Period 2 | D4: Period 3 | E4: Period 4
B5: (Name 1) | C5: (Name 2) | D5: (Name 3) | E5: (Name 4)
A8: Notes | B8: All the above times are in UK Clock time
A12: Generic demand and generation LLFs
A13: Metered voltage, respective periods and associated LLFCs / DUoS Tariff IDs
A14: Metered voltage | B14: Period 1 | C14: Period 2 | D14: Period 3 | E14: Period 4 | F14: Associated LLFC / DUoS Tariff ID
A15: Low-voltage network
A16: Low-voltage substation
A17: High-voltage network
A18: High-voltage substation
A19: 33kV generic
A20: 33kV generic
A21: 132kV generic
A22: 132kV generic
A24: EHV site specific LLFs
A25: Demand
A26: Site | B26: Period 1 | C26: Period 2 | D26: Period 3 | E26: Period 4 | F26: Associated LLFC / DUoS Tariff ID
A27: Site 1
A28: Site 2
A29: Site 3
A30: Site 4
A31: Site 5
A33: EHV site specific LLFs
A34: Generation
A35: Site | B35: Period 1 | C35: Period 2 | D35: Period 3 | E35: Period 4 | F35: Associated LLFC / DUoS Tariff ID
A36: Site 1
A37: Site 2
A38: Site 3
A39: Site 4
A40: Site 5

Sheet Annex 6 New or Amended EHV
A1: Back to Overview | H1: Note: The list of MPANs/MSIDs provided may be incomplete; the DNO reserves the right to apply the listed charges to any other MPANs/MSIDs associated with the site. If sites appear in both Annex 2 and Annex 6, the charges in Annex 6 take precedence. Where an existing Designated EHV Property is modified and energised in the charging year, we may revise the EDCM charges for the modified Designated EHV Property.
A2: Annex 6 - Charges for New or Amended Designated EHV Properties
A4: =Overview!B4& " - Effective from "&Overview!D4&" - "&Overview!E4&" new or amended designated EHV charges" -> Southern Electric Power Distribution plc - Effective from 1 April 2027 - Final new or amended designated EHV charges
A5: Effective from date | B5: Import LLFC / DUoS Tariff ID | C5: Import MPANs/MSIDs | D5: Export LLFC / DUoS Tariff ID | E5: Export MPANs/MSIDs | F5: Name | G5: Residual Charging Band | H5: ='Annex 2 Designated EHV charges'!G9 -> Import Super Red unit charge (p/kWh) | I5: ='Annex 2 Designated EHV charges'!H9 -> Import fixed charge (p/day) | J5: ='Annex 2 Designated EHV charges'!I9 -> Import capacity charge (p/kVA/day) | K5: ='Annex 2 Designated EHV charges'!J9 -> Import exceeded capacity charge (p/kVA/day) | L5: ='Annex 2 Designated EHV charges'!K9 -> Export Super Red unit charge (p/kWh) | M5: ='Annex 2 Designated EHV charges'!L9 -> Export fixed charge (p/day) | N5: ='Annex 2 Designated EHV charges'!M9 -> Export capacity charge (p/kVA/day) | O5: ='Annex 2 Designated EHV charges'!N9 -> Export exceeded capacity charge (p/kVA/day)
A6: 01/04/2027 | B6: IDNO | C6: IDNO | D6: IDNO | E6: IDNO | F6: Tariff 543 | G6: 1 | H6: 0 | I6: 2017.95 | J6: 0.85 | K6: 0.85 | L6: 0 | M6: 8302.44 | N6: 0.05 | O6: 0.05
A7: 01/04/2027 | B7: IDNO | C7: IDNO | D7: IDNO | E7: IDNO | F7: Tariff 544 | G7: 1 | H7: 0 | I7: 2054.9 | J7: 0.85 | K7: 0.85 | L7: 0 | M7: 8265.49 | N7: 0.05 | O7: 0.05
A8: 01/04/2027 | B8: 847 | C8: 2000050662007 | D8: 928 | E8: 2000050662016 | F8: Tariff 67 | G8: 1 | H8: 0 | I8: 2249.07 | J8: 0.92 | K8: 0.92 | L8: 0 | M8: 678.38 | N8: 0.05 | O8: 0.05
A9: 01/04/2027 | B9: TBC | C9: 2000061003526 | D9: TBC | E9: 2000061009012 | F9: Tariff 545 | H9: 0 | I9: 2.96 | J9: 1.27 | K9: 1.27 | L9: 0 | M9: 1554.68 | N9: 0.05 | O9: 0.05
A10: 01/04/2027 | B10: TBC | C10: 2000061045660 | D10: TBC | E10: 2000061091550 | F10: Tariff 542 | H10: 0 | I10: 6647.13 | J10: 1.2 | K10: 1.2 | L10: 0 | M10: 34914.9 | N10: 0.05 | O10: 0.05
A11: 01/04/2027 | B11: 731 | C11: 2000056151106 | D11: 742 | E11: 2000056151115 | F11: Tariff 248 | H11: 0 | I11: 59.14 | J11: 0.81 | K11: 0.81 | L11: 0 | M11: 96.1 | N11: 0.05 | O11: 0.05
A12: 01/04/2027 | B12: IDNO | C12: IDNO | D12: IDNO | E12: IDNO | F12: Tariff 546 | H12: 0 | I12: 249.05 | J12: 0.85 | K12: 0.85 | L12: 0 | M12: 249.05 | N12: 0.05 | O12: 0.05
A17: =Overview!B4& " - Effective from "&Overview!D4&" - "&Overview!E4&" new or amended designated EHV line loss factors" -> Southern Electric Power Distribution plc - Effective from 1 April 2027 - Final new or amended designated EHV line loss factors
A18: Effective from date | B18: Import LLFC / DUoS Tariff ID | C18: Import MPANs/MSIDs | D18: Export LLFC / DUoS Tariff ID | E18: Export MPANs/MSIDs | F18: Name | G18: Residual Charging Band | H18: Import LLF period 1 | I18: Import LLF period 2 | J18: Import LLF period 3 | K18: Import LLF period 4 | L18: Export LLF period 1 | M18: Export LLF period 2 | N18: Export LLF period 3 | O18: Export LLF period 4

Sheet Annex 7 Pass-Through Costs
A1: Back to Overview
A2: =Overview!B4& " - Effective from "&Overview!D4&" - "&Overview!E4&" Supplier of Last Resort and Eligible Bad Debt Pass-Through Costs" -> Southern Electric Power Distribution plc - Effective from 1 April 2027 - Final Supplier of Last Resort and Eligible Bad Debt Pass-Through Costs
A4: Tariff name | B4: Open LLFCs / DUoS Tariff IDs / LDNO unique billing identifier | C4: PCs | D4: Supplier of Last Resort Fixed charge adder* p/MPAN/day | E4: Eligible Bad Debt Fixed charge adder** p/MPAN/day
A5: Domestic Aggregated or CT with Residual | B5: 100-111, 154-157, 160-161, 456, Q55 | C5: 0, 1, 2 | D5: 0 | E5: 0
A6: Non-Domestic Aggregated or CT No Residual | B6: H00, H05, H10, H15, H20, H25, H30, H35, H40, H45, H50, H55, H60, H70, H75, H80, Q00, Q56 | C6: 0, 3, 4, 5-8 | E6: 0
A7: Non-Domestic Aggregated or CT Band 1 | B7: H01, H06, H11, H16, H21, H26, H31, H36, H41, H46, H51, H56, H61, H71, H76, H81, Q01, Q57 | C7: 0, 3, 4, 5-8 | E7: 0
A8: Non-Domestic Aggregated or CT Band 2 | B8: H02, H07, H12, H17, H22, H27, H32, H37, H42, H47, H52, H57, H62, H72, H77, H82, Q02, Q58 | C8: 0, 3, 4, 5-8 | E8: 0
A9: Non-Domestic Aggregated or CT Band 3 | B9: H03, H08, H13, H18, H23, H28, H33, H38, H43, H48, H53, H58, H63, H73, H78, H83, Q03, Q59 | C9: 0, 3, 4, 5-8 | E9: 0
A10: Non-Domestic Aggregated or CT Band 4 | B10: H04, H09, H14, H19, H24, H29, H34, H39, H44, H49, H54, H59, H64, H74, H79, H84, Q04, Q60 | C10: 0, 3, 4, 5-8 | E10: 0
A11: LV Site Specific No Residual | B11: H85 | C11: 0 | E11: 0
A12: LV Site Specific Band 1 | B12: H86 | C12: 0 | E12: 0
A13: LV Site Specific Band 2 | B13: H87 | C13: 0 | E13: 0
A14: LV Site Specific Band 3 | B14: H88 | C14: 0 | E14: 0
A15: LV Site Specific Band 4 | B15: H89 | C15: 0 | E15: 0
A16: LV Sub Site Specific No Residual | B16: H90 | C16: 0 | E16: 0
A17: LV Sub Site Specific Band 1 | B17: H91 | C17: 0 | E17: 0
A18: LV Sub Site Specific Band 2 | B18: H92 | C18: 0 | E18: 0
A19: LV Sub Site Specific Band 3 | B19: H93 | C19: 0 | E19: 0
A20: LV Sub Site Specific Band 4 | B20: H94 | C20: 0 | E20: 0
A21: HV Site Specific No Residual | B21: Q45 | C21: 0 | E21: 0
A22: HV Site Specific Band 1 | B22: Q46 | C22: 0 | E22: 0
... A25: HV Site Specific Band 4 | B25: Q49 | C25: 0 | E25: 0
A26: LDNO LV: Domestic Aggregated or CT with Residual | C26: 0, 1, 2 | D26: 0 | E26: 0
A27: LDNO LV: Non-Domestic Aggregated or CT No Residual | C27: 0, 3, 4, 5-8 | E27: 0
A28: LDNO LV: Non-Domestic Aggregated or CT Band 1 | C28: 0, 3, 4, 5-8 | E28: 0
A29: LDNO LV: Non-Domestic Aggregated or CT Band 2 | C29: 0, 3, 4, 5-8 | E29: 0
A30: LDNO LV: Non-Domestic Aggregated or CT Band 3 | C30: 0, 3, 4, 5-8 | E30: 0
A31: LDNO LV: Non-Domestic Aggregated or CT Band 4 | C31: 0, 3, 4, 5-8 | E31: 0
A32: LDNO LV: LV Site Specific No Residual | C32: 0 | E32: 0
A33: LDNO LV: LV Site Specific Band 1 | C33: 0 | E33: 0
A34: LDNO LV: LV Site Specific Band 2 | C34: 0 | E34: 0
A35: LDNO LV: LV Site Specific Band 3 | C35: 0 | E35: 0
A36: LDNO LV: LV Site Specific Band 4 | C36: 0 | E36: 0
A37: LDNO HV: Domestic Aggregated or CT with Residual | C37: 0, 1, 2 | D37: 0 | E37: 0
A38: LDNO HV: Non-Domestic Aggregated or CT No Residual | C38: 0, 3, 4, 5-8 | E38: 0
A39: LDNO HV: Non-Domestic Aggregated or CT Band 1 | C39: 0, 3, 4, 5-8 | E39: 0
A40: LDNO HV: Non-Domestic Aggregated or CT Band 2 | C40: 0, 3, 4, 5-8 | E40: 0
A41: LDNO HV: Non-Domestic Aggregated or CT Band 3 | C41: 0, 3, 4, 5-8 | E41: 0
A42: LDNO HV: Non-Domestic Aggregated or CT Band 4 | C42: 0, 3, 4, 5-8 | E42: 0
A43: LDNO HV: LV Site Specific No Residual | C43: 0 | E43: 0
...

Sheet Nodal prices
A1: Back to Overview
A2: =Overview!B4& " - Effective from "&Overview!D4&" - "&Overview!E4&" Nodal/Zonal charges" -> Southern Electric Power Distribution plc - Effective from 1 April 2027 - Final Nodal/Zonal charges
A3: Node/Zone ID | B3: Geographical name | C3: Local charge 1 £/kVA | D3: Remote charge 1 £/kVA
A4: 1 | B4: Melksham | C4: 0.6 | D4: 0
A5: 2 | B5: Mannington | C5: 0 | D5: 0
A6: 3 | B6: Fleet & Bramley | C6: 2.167 | D6: 0
A7: 4 | B7: Amersham | C7: 0 | D7: 0
A8: 5 | B8: Bramley (ANDO & THAT) | C8: 0 | D8: 0
A9: 6 | B9: Axminster | C9: 0.55 | D9: 0
A10: 7 | B10: Bramley (BASI) | C10: 0.24 | D10: 0
A11: 8 | B11: Minety | C11: 0 | D11: 0
A12: 9 | B12: Fawley & Nursling | C12: 0 | D12: 0
A13: 10 | B13: Botley Wood | C13: 0 | D13: 0
A14: 11 | B14: Iver 132 | C14: 0 | D14: 0
A15: 12 | B15: Lovedean A2 | C15: 0 | D15: 0
... A662: 851 | B662: BICN-E 11.000 | C662: 0 | D662: 0

Sheet SSC unit rate lookup
A1: Back to Overview
A28: Standard Settlement Configuration Id | B28: Standard Settlement Configuration Desc | C28: Common Decode | F28: Change implemented | G28: Date | H28: Comments
A29: 3 | B29: 10-hour OP | C29: A/R | F29: Notes updated | G29: 43626 | H29: Updated to reflect DCP 268 which delinks all tariffs from the TPR bands
A30: 4 | B30: 10-hour OP | C30: A/R | F30: Code 1 & 2 changed to A | G30: 43626 | H30: Updated to reflect DCP 268 which delinks all tariffs from the TPR bands
A31: 5 | B31: 10-hour OP + w/e | C31: A/R | F31: Code O changed to A/R | G31: 43626 | H31: Updated to reflect DCP 268 which delinks all tariffs from the TPR bands
A32: 6 | B32: 10.5-hour OP | C32: A/R | F32: Removed TPR | G32: 43626 | H32: Removed TPR lookup element as this no longer effects which rate to apply
A33: 7 | B33: 10.5-hour OP | C33: A/R
A34: 8 | B34: 10.5-hour OP | C34: A/R
A35: 9 | B35: 10.5-hour OP | C35: A/R
A36: 10 | B36: 10.5-hour OP | C36: A/R
A37: 11 | B37: 10.5-hour OP | C37: A/R
A38: 12 | B38: 10.5-hour OP | C38: A/R
A39: 13 | B39: 11 Hour OP | C39: A/R
A40: 15 | B40: 11 Hour OP | C40: A/R
A41: 16 | B41: 11.5-hour OP | C41: A/R
A42: 17 | B42: 11.5-hour OP | C42: A/R
A43: 18 | B43: 11.5-hour OP | C43: A/R
A44: 19 | B44: 11.5-hour OP | C44: A/R
... A764: 997 | B764: Evening/Weekend - BST | C764: A

Sheet Residual Charging Bands
A1: Back to Overview
A2: =Overview!B4& " - Effective from "&Overview!C4&" - "&Overview!E4&" Residual Charging Bands" -> Southern Electric Power Distribution plc - Effective from 2027/28 - Final Residual Charging Bands
A4: Voltage of Connection | B4: Band | C4: Units | D4: Lower Threshold* | E4: Upper Threshold* | F4: Residual Charge per MPAN (£)
A5: Domestic Aggregated | B5: Single band | C5: - | D5: - | E5: - | F5: -1.1739143
A6: Designated Properties connected at LV, billing with no MIC | B6: 1 | C6: kWh | D6: 0 | E6: 3986 | F6: -0.40498614
B7: 2 | C7: kWh | D7: 3986 | E7: 13677 | F7: -2.4058008
B8: 3 | C8: kWh | D8: 13677 | E8: 27543 | F8: -6.0804054
B9: 4 | C9: kWh | D9: 27543 | E9: ∞ | F9: -17.739229
A10: Designated Properties connected at LV, billing with MIC | B10: 1 | C10: kVA | D10: 0 | E10: 90 | F10: -30.462241
B11: 2 | C11: kVA | D11: 90 | E11: 150 | F11: -49.851
B12: 3 | C12: kVA | D12: 150 | E12: 250 | F12: -87.362759
B13: 4 | C13: kVA | D13: 250 | E13: ∞ | F13: -217.88791
A14: Designated Properties connected at HV | B14: 1 | C14: kVA | D14: 0 | E14: 500 | F14: -196.48103
B15: 2 | C15: kVA | D15: 500 | E15: 1100 | F15: -486.9906
B16: 3 | C16: kVA | D16: 1100 | E16: 2000 | F16: -921.89564
B17: 4 | C17: kVA | D17: 2000 | E17: ∞ | F17: -2235.4778
A18: Designated EHV Properties | B18: 1 | C18: kVA | D18: 0 | E18: 3500 | F18: 7877.587
B19: 2 | C19: kVA | D19: 3500 | E19: 11000 | F19: 42701.553
B20: 3 | C20: kVA | D20: 11000 | E20: 20000 | F20: 109357.25
B21: 4 | C21: kVA | D21: 20000 | E21: ∞ | F21: 542270.69
A22: * All boundaries are inclusive of the upper threshold and exclusive of the lower threshold i.e. Lower < x ≤ Upper.

Sheet TNUoS Mapping
A1: Back to Overview
A2: =Overview!C4&" - Effective from "&Overview!D4&" - "&Overview!F4&" TNUoS Mapping" -> 2027/28 - Effective from 1 April 2027 - TNUoS Mapping
A3: DUoS Tariff name | B3: TNUoS Site Charging Band
A4: Domestic Aggregated or CT with Residual | B4: Domestic
A5: Domestic Aggregated (Related MPAN) | B5: n/a (Non-Final Demand Site)
A6: Non-Domestic Aggregated or CT No Residual | B6: =$B$5 -> n/a (Non-Final Demand Site)
A7: Non-Domestic Aggregated or CT Band 1 | B7: LV_NoMIC_1
A8: Non-Domestic Aggregated or CT Band 2 | B8: LV_NoMIC_2
A9: Non-Domestic Aggregated or CT Band 3 | B9: LV_NoMIC_3
A10: Non-Domestic Aggregated or CT Band 4 | B10: LV_NoMIC_4
A11: Non-Domestic Aggregated (related MPAN) | B11: =$B$5 -> n/a (Non-Final Demand Site)
A12: LV Site Specific No Residual | B12: =$B$5 -> n/a (Non-Final Demand Site)
A13: LV Site Specific Band 1 | B13: LV1
A14: LV Site Specific Band 2 | B14: LV2
A15: LV Site Specific Band 3 | B15: LV3
A16: LV Site Specific Band 4 | B16: LV4
A17: LV Sub Site Specific No Residual | B17: =$B$5 -> n/a (Non-Final Demand Site)
A18: LV Sub Site Specific Band 1 | B18: LV1
A19: LV Sub Site Specific Band 2 | B19: LV2
A20: LV Sub Site Specific Band 3 | B20: LV3
A21: LV Sub Site Specific Band 4 | B21: LV4
A22: HV Site Specific No Residual | B22: =$B$5 -> n/a (Non-Final Demand Site)
A23: HV Site Specific Band 1 | B23: HV1
A24: HV Site Specific Band 2 | B24: HV2
A25: HV Site Specific Band 3 | B25: HV3
A26: HV Site Specific Band 4 | B26: HV4
A27: Unmetered Supplies | B27: n/a (p/kWh charge)
A28: LV Generation Aggregated | B28: =$B$5 -> n/a (Non-Final Demand Site)
A29: LV Sub Generation Aggregated | B29: =$B$5 -> n/a (Non-Final Demand Site)
A30: LV Generation Site Specific | B30: =$B$5 -> n/a (Non-Final Demand Site)
A31: LV Generation Site Specific no RP charge | B31: =$B$5 -> n/a (Non-Final Demand Site)
A32: LV Sub Generation Site Specific | B32: =$B$5 -> n/a (Non-Final Demand Site)
A33: LV Sub Generation Site Specific no RP charge | B33: =$B$5 -> n/a (Non-Final Demand Site)
A34: HV Generation Site Specific | B34: =$B$5 -> n/a (Non-Final Demand Site)
A35: HV Generation Site Specific no RP charge | B35: =$B$5 -> n/a (Non-Final Demand Site)
A36: Designated EHV Site Specific No Residual | B36: =$B$5 -> n/a (Non-Final Demand Site)
A37: Designated EHV Site Specific Band 1 | B37: EHV1
A38: Designated EHV Site Specific Band 2 | B38: EHV2
A39: Designated EHV Site Specific Band 3 | B39: EHV3
A40: Designated EHV Site Specific Band 4 | B40: EHV4

Sheet Charge Calculator
B1: Back to Overview
B2: =Overview!B4& " - Effective from "&Overview!D4&" - "&Overview!E4 -> Southern Electric Power Distribution plc - Effective from 1 April 2027 - Final | AC2: Red/black unit charge p/kWh | AD2: Amber/yellow unit charge p/kWh | AE2: Green unit charge p/kWh | AF2: Fixed charge p/MPAN/day | AG2: Capacity charge p/kVA/day | AH2: Exceeded capacity charge p/kVA/day | AI2: Reactive power charge p/kVArh
AB3: Domestic Aggregated | AC3: Red unit charge p/kWh | AD3: Amber unit charge p/kWh | AE3: Green unit charge p/kWh | AF3: Fixed charge p/MPAN/day | AG3: n/a | AH3: n/a | AI3: n/a
B4: LV and HV designated properties and Unmetered Supplies tariff calculator | L4: EHV designated property calculator | AB4: Domestic Aggregated (related MPAN) | AC4: Red unit charge p/kWh | AD4: Amber unit charge p/kWh | AE4: Green unit charge p/kWh | AF4: n/a | AG4: n/a | AH4: n/a | AI4: n/a
B5: Step 1, Choose your tariff using the drop down list in cell B10 | L5: Step 1, Choose your tariff using the drop down list in cell L10 | AB5: Non-Domestic Aggregated | AC5: Red unit charge p/kWh | AD5: Amber unit charge p/kWh | AE5: Green unit charge p/kWh | AF5: Fixed charge p/MPAN/day | AG5: n/a | AH5: n/a | AI5: n/a
B6: Step 2, After selecting a tariff in step 1, Cells C12-I12 will generate headings, please enter your consumption in cells C13:I13 underneath each heading generated (if no heading leave cell blank) | L6: Step 2, After selecting a tariff in step 1, Cells M12-T12 will generate headings, please enter your consumption in cells M13:T13 underneath each heading generated (if no heading leave cell blank) | AB6: Non-Domestic Aggregated (related MPAN) | AC6: Red unit charge p/kWh | AD6: Amber unit charge p/kWh | AE6: Green unit charge p/kWh | AF6: n/a | AG6: n/a | AH6: n/a | AI6: n/a
B7: Step 3, Enter a forecast of consumption if required in cells C14:I14 | L7: Step 3, Enter a forecast of consumption if required in cells M14:T14 | AB7: LV Site Specific | AC7: Red unit charge p/kWh | AD7: Amber unit charge p/kWh | AE7: Green unit charge p/kWh | AF7: Fixed charge p/MPAN/day | AG7: Capacity charge p/kVA/day | AH7: Exceeded Capacity charge p/kVA/day | AI7: Reactive power charge p/kVArh
AB8: LV Sub Site Specific | AC8: Red unit charge p/kWh | AD8: Amber unit charge p/kWh | AE8: Green unit charge p/kWh | AF8: Fixed charge p/MPAN/day | AG8: Capacity charge p/kVA/day | AH8: Exceeded Capacity charge p/kVA/day | AI8: Reactive power charge p/kVArh
B9: Tariff details Choose tariff name from drop down box below | C9: =IFERROR(VLOOKUP($B$10,$AB$2:$AI$18,2,FALSE),AC2) -> Red/black unit charge p/kWh | D9: =IFERROR(VLOOKUP($B$10,$AB$2:$AI$18,3,FALSE),AD2) -> Amber/yellow unit charge p/kWh | E9: =IFERROR(VLOOKUP($B$10,$AB$2:$AI$18,4,FALSE),AE2) -> Green unit charge p/kWh | F9: =IFERROR(VLOOKUP($B$10,$AB$2:$AI$18,5,FALSE),AF2) -> Fixed charge p/MPAN/day | G9: =IFERROR(VLOOKUP($B$10,$AB$2:$AI$18,6,FALSE),AG2) -> Capacity charge p/kVA/day | H9: =IFERROR(VLOOKUP($B$10,$AB$2:$AI$18,7,FALSE),AH2) -> Exceeded capacity charge p/kVA/day | I9: =IFERROR(VLOOKUP($B$10,$AB$2:$AI$18,8,FALSE),AI2) -> Reactive power charge p/kVArh | L9: Site details Choose the site name from the drop down box below | M9: ='Annex 2 Designated EHV charges'!G9 -> Import Super Red unit charge (p/kWh) | N9: ='Annex 2 Designated EHV charges'!H9 -> Import fixed charge (p/day) | O9: ='Annex 2 Designated EHV charges'!I9 -> Import capacity charge (p/kVA/day) | P9: ='Annex 2 Designated EHV charges'!J9 -> Import exceeded capacity charge (p/kVA/day) | Q9: ='Annex 2 Designated EHV charges'!K9 -> Export Super Red unit charge (p/kWh) | R9: ='Annex 2 Designated EHV charges'!L9 -> Export fixed charge (p/day) | S9: ='Annex 2 Designated EHV charges'!M9 -> Export capacity charge (p/kVA/day) | T9: ='Annex 2 Designated EHV charges'!N9 -> Export exceeded capacity charge (p/kVA/day) | AB9: HV Site Specific | AC9: Red unit charge p/kWh | AD9: Amber unit charge p/kWh | AE9: Green unit charge p/kWh | AF9: Fixed charge p/MPAN/day | AG9: Capacity charge p/kVA/day | AH9: Exceeded Capacity charge p/kVA/day | AI9: Reactive power charge p/kVArh
C10: =IFERROR(VLOOKUP($B$10,'Annex 1 LV, HV and UMS charges'!$A:$K,4,FALSE),"") | D10: =IFERROR(VLOOKUP($B$10,'Annex 1 LV, HV and UMS charges'!$A:$K,5,FALSE),"") | E10: =IFERROR(VLOOKUP($B$10,'Annex 1 LV, HV and UMS charges'!$A:$K,6,FALSE),"") | F10: =IFERROR(VLOOKUP($B$10,'Annex 1 LV, HV and UMS charges'!$A:$K,7,FALSE),"") | G10: =IFERROR(VLOOKUP($B$10,'Annex 1 LV, HV and UMS charges'!$A:$K,8,FALSE),"") | H10: =IFERROR(VLOOKUP($B$10,'Annex 1 LV, HV and UMS charges'!$A:$K,9,FALSE),"") | I10: =IFERROR(VLOOKUP($B$10,'Annex 1 LV, HV and UMS charges'!$A:$K,10,FALSE),"") | M10: =IFERROR(VLOOKUP($L$10,'Annex 2 Designated EHV charges'!$E:$N,3,FALSE),"") | N10: =IFERROR(VLOOKUP($L$10,'Annex 2 Designated EHV charges'!$E:$N,4,FALSE),"") | O10: =IFERROR(VLOOKUP($L$10,'Annex 2 Designated EHV charges'!$E:$N,5,FALSE),"") | P10: =IFERROR(VLOOKUP($L$10,'Annex 2 Designated EHV charges'!$E:$N,6,FALSE),"") | Q10: =IFERROR(VLOOKUP($L$10,'Annex 2 Designated EHV charges'!$E:$N,7,FALSE),"") | R10: =IFERROR(VLOOKUP($L$10,'Annex 2 Designated EHV charges'!$E:$N,8,FALSE),"") | S10: =IFERROR(VLOOKUP($L$10,'Annex 2 Designated EHV charges'!$E:$N,9,FALSE),"") | T10: =IFERROR(VLOOKUP($L$10,'Annex 2 Designated EHV charges'!$E:$N,10,FALSE),"") | AB10: Unmetered Supplies | AC10: Black unit charge p/kWh | AD10: Yellow unit charge p/kWh | AE10: Green unit charge p/kWh | AF10: n/a | AG10: n/a | AH10: n/a | AI10: n/a
AB11: LV Generation Aggregated | AC11: Red unit charge p/kWh | AD11: Amber unit charge p/kWh | AE11: Green unit charge p/kWh | AF11: Fixed charge p/MPAN/day | AG11: n/a | AH11: n/a | AI11: n/a
B12: Tariff components | C12: =C9 -> Red/black unit charge p/kWh | D12: =D9 -> Amber/yellow unit charge p/kWh | E12: =E9 -> Green unit charge p/kWh | F12: Number of days in consumption period i.e. 365 if one year | G12: Maximum import or export capacity kVA | H12: Average daily exceeded capacity kVA | I12: Excess reactive units kVArh | L12: Tariff components | M12: Import super red kWh | N12: Number of days in consumption period i.e. 365 if one year | O12: Maximum import capacity kVA | P12: Average daily exceeded capacity kVA | Q12: Export Super Red kWh | R12: Number of days in consumption period i.e. 365 if one year | S12: Maximum export capacity kVA | T12: Average daily exceeded capacity kVA | AB12: LV Sub Generation Aggregated | AC12: Red unit charge p/kWh | AD12: Amber unit charge p/kWh | AE12: Green unit charge p/kWh | AF12: Fixed charge p/MPAN/day | AG12: n/a | AH12: n/a | AI12: n/a
B13: Enter current consumption details | L13: Enter current consumption details | R13: =N13 -> 0 | AB13: LV Generation Site Specific | AC13: Red unit charge p/kWh | AD13: Amber unit charge p/kWh | AE13: Green unit charge p/kWh | AF13: Fixed charge p/MPAN/day | AG13: n/a | AH13: n/a | AI13: Reactive power charge p/kVArh
B14: Enter forecast consumption details (if different) | C14: =C13 -> 0 | D14: =D13 -> 0 | E14: =E13 -> 0 | F14: =F13 -> 0 | G14: =G13 -> 0 | H14: =H13 -> 0 | I14: =I13 -> 0 | L14: Enter forecast consumption details (if different) | M14: =M13 -> 0 | N14: =N13 -> 0 | O14: =O13 -> 0 | P14: =P13 -> 0 | Q14: =Q13 -> 0 | R14: =R13 -> 0 | S14: =S13 -> 0 | T14: =T13 -> 0 | AB14: LV Generation Site Specific no RP charge | AC14: Red unit charge p/kWh | AD14: Amber unit charge p/kWh | AE14: Green unit charge p/kWh | AF14: Fixed charge p/MPAN/day | AG14: n/a | AH14: n/a | AI14: n/a
AB15: LV Sub Generation Site Specific | AC15: Red unit charge p/kWh | AD15: Amber unit charge p/kWh | AE15: Green unit charge p/kWh | AF15: Fixed charge p/MPAN/day | AG15: n/a | AH15: n/a | AI15: Reactive power charge p/kVArh
B16: Charge components | C16: Unit 1 £ | D16: Unit 2 £ | E16: Unit 3 £ | F16: Fixed charge £ | G16: Capacity charge £ | H16: Exceeded capacity charge £ | I16: Reactive power charge £ | L16: Charge components | M16: Import super red charge £ | N16: Import fixed charge £ | O16: Import capacity charge £ | P16: Import exceeded capacity charge £ | Q16: Export super red charge £ | R16: Export fixed charge £ | S16: Export capacity charge £ | T16: Export exceeded capacity charge £ | AB16: LV Sub Generation Site Specific no RP charge | AC16: Red unit charge p/kWh | AD16: Amber unit charge p/kWh | AE16: Green unit charge p/kWh | AF16: Fixed charge p/MPAN/day | AG16: n/a | AH16: n/a | AI16: n/a
B17: Current consumption period charges | C17: =IFERROR(C10*C13/100,"") | D17: =IFERROR(D10*D13/100,"") | E17: =IFERROR(E10*E13/100,"") | F17: =IFERROR(F10*F13/100,"") | G17: =IFERROR(G10*G13*F13/100,"") | H17: =IFERROR(H10*H13*F13/100,"") | I17: =IFERROR(I10*I13/100,"") | L17: Current consumption period charges | M17: =IFERROR(M10*M13/100,"") | N17: =IFERROR(N10*N13/100,"") | O17: =IFERROR(O10*O13*N13/100,"") | P17: =IFERROR(P10*P13*N13/100,"") | Q17: =IFERROR(Q10*Q13/100,"") | R17: =IFERROR(R10*R13/100,"") | S17: =IFERROR(S10*S13*R13/100,"") | T17: =IFERROR(T10*T13*R13/100,"") | AB17: HV Generation Site Specific | AC17: Red unit charge p/kWh | AD17: Amber unit charge p/kWh | AE17: Green unit charge p/kWh | AF17: Fixed charge p/MPAN/day | AG17: n/a | AH17: n/a | AI17: Reactive power charge p/kVArh
B18: Forecast consumption period charges | C18: =IFERROR(C10*C14/100,"") | D18: =IFERROR(D10*D14/100,"") | E18: =IFERROR(E10*E14/100,"") | F18: =IFERROR(F10*F14/100,"") | G18: =IFERROR(G10*G14*F14/100,"") | H18: =IFERROR(H10*H14*F14/100,"") | I18: =IFERROR(I10*I14/100,"") | L18: Forecast consumption period charges | M18: =IFERROR(M10*M14/100,"") | N18: =IFERROR(N10*N14/100,"") | O18: =IFERROR(O10*O14*N14/100,"") | P18: =IFERROR(P10*P14*N14/100,"") | Q18: =IFERROR(Q10*Q14/100,"") | R18: =IFERROR(R10*R14/100,"") | S18: =IFERROR(S10*S14*R14/100,"") | T18: =IFERROR(T10*T14*R14/100,"") | AB18: HV Generation Site Specific no RP charge | AC18: Red unit charge p/kWh | AD18: Amber unit charge p/kWh | AE18: Green unit charge p/kWh | AF18: Fixed charge p/MPAN/day | AG18: n/a | AH18: n/a | AI18: n/a
C20: Total charge £ | M20: Import total charge £ | N20: Export total charge £
B21: Current consumption period charges | C21: =SUM(C17:I17) -> 0 | L21: Current consumption period charges | M21: =SUM(M17:P17) -> 0 | N21: =SUM(Q17:T17) -> 0
B22: Forecast consumption period charges | C22: =SUM(C18:I18) -> 0 | L22: Forecast consumption period charges | M22: =SUM(M18:P18) -> 0 | N22: =SUM(Q18:T18) -> 0
B24: These charges are estimates based on tariff selected and consumption values entered. | L24: These charges are estimates based on site selected and consumption values entered.
